BEGIN:VCALENDAR
VERSION:2.0
PRODID:-// - ECPv6.15.17.1//NONSGML v1.0//EN
CALSCALE:GREGORIAN
METHOD:PUBLISH
X-ORIGINAL-URL:https://robertabeary.com
X-WR-CALDESC:Events for 
REFRESH-INTERVAL;VALUE=DURATION:PT1H
X-Robots-Tag:noindex
X-PUBLISHED-TTL:PT1H
BEGIN:VTIMEZONE
TZID:UTC
BEGIN:STANDARD
TZOFFSETFROM:+0000
TZOFFSETTO:+0000
TZNAME:UTC
DTSTART:20180101T000000
END:STANDARD
END:VTIMEZONE
BEGIN:VEVENT
DTSTART;VALUE=DATE:20190628
DTEND;VALUE=DATE:20190701
DTSTAMP:20260420T010423
CREATED:20190625T141655Z
LAST-MODIFIED:20190625T141655Z
UID:2021-1561680000-1561939199@robertabeary.com
SUMMARY:Flash Fiction Festival 2019
DESCRIPTION:Excited to be part of  Flash Fiction Festival 2019 \nFind me at the Best Microfiction 2019 Reading and other festival events. \n 
URL:https://robertabeary.com/event/flash-fiction-festival-2019/
LOCATION:Trinity College Bristol\, Stoke Hill Stoke Bishop\, Bristol\, BS9 1JP\, United Kingdom
END:VEVENT
BEGIN:VEVENT
DTSTART;TZID=UTC:20190410T190000
DTEND;TZID=UTC:20190410T200000
DTSTAMP:20260420T010423
CREATED:20190320T170641Z
LAST-MODIFIED:20190320T170641Z
UID:1949-1554922800-1554926400@robertabeary.com
SUMMARY:the haibun journal Dublin Ireland Launch
DESCRIPTION:All Welcome to the launch of the first issue of the haibun journal \n  \n  \n 
URL:https://robertabeary.com/event/the-haibun-journal-dublin-ireland-launch/
LOCATION:Teachers Club Dublin\, 36 Parnell Square W\, Dublin\, Ireland
ATTACH;FMTTYPE=image/jpeg:https://robertabeary.com/wp-content/uploads/2019/03/fullsizeoutput_22c6.jpeg
END:VEVENT
BEGIN:VEVENT
DTSTART;TZID=UTC:20190407T140000
DTEND;TZID=UTC:20190407T170000
DTSTAMP:20260420T010423
CREATED:20190401T212456Z
LAST-MODIFIED:20190401T223522Z
UID:2004-1554645600-1554656400@robertabeary.com
SUMMARY:Haiku Ireland Poetry Reading
DESCRIPTION:All are Welcome to Join Us \n \n 
URL:https://robertabeary.com/event/haiku-ireland-poets-reading/
LOCATION:Farmleigh House Dublin\, Walled Garden Farmleigh\, Dublin\, Ireland
ATTACH;FMTTYPE=image/jpeg:https://robertabeary.com/wp-content/uploads/2019/04/7A16450C-959D-4175-9A18-B66611DA55E6.jpeg
END:VEVENT
END:VCALENDAR