BEGIN:VCALENDAR
VERSION:2.0
PRODID:-// - ECPv6.15.17.1//NONSGML v1.0//EN
CALSCALE:GREGORIAN
METHOD:PUBLISH
X-ORIGINAL-URL:https://robertabeary.com
X-WR-CALDESC:Events for 
REFRESH-INTERVAL;VALUE=DURATION:PT1H
X-Robots-Tag:noindex
X-PUBLISHED-TTL:PT1H
BEGIN:VTIMEZONE
TZID:UTC
BEGIN:STANDARD
TZOFFSETFROM:+0000
TZOFFSETTO:+0000
TZNAME:UTC
DTSTART:20240101T000000
END:STANDARD
END:VTIMEZONE
BEGIN:VEVENT
DTSTART;TZID=UTC:20250628T190000
DTEND;TZID=UTC:20250628T200000
DTSTAMP:20260419T164354
CREATED:20250628T182947Z
LAST-MODIFIED:20250629T014026Z
UID:2697-1751137200-1751140800@robertabeary.com
SUMMARY:Prose Garden Poetry Featuring Roberta Beary’s Haibun
DESCRIPTION:
URL:https://robertabeary.com/event/prose-garden-poetry-featuring-roberta-bearys-haibun/
LOCATION:NC
END:VEVENT
END:VCALENDAR